BEGIN:VCALENDAR
VERSION:2.0
PRODID:-//Tukios.com/
BEGIN:VEVENT
UID:caec024a-4f2d-454c-8abf-5062370004f0@obituaries.harrelsonfuneralhome.com
DTSTAMP:20260424T003553Z
DTSTART:20260501T210000Z
DTEND:20260501T220000Z
SUMMARY:Interment with Military Honors
DESCRIPTION:
URL:https://obituaries.harrelsonfuneralhome.com/obituaries/specialist-fourth-class-lawrence-alan-al-silvers
LOCATION: 1743 Chase High Rd  Forest City NC 28043
GEO:35.2458763;-81.8444428
END:VEVENT
END:VCALENDAR