BEGIN:VCALENDAR
VERSION:2.0
PRODID:-//Tukios.com/
BEGIN:VEVENT
UID:3d2ddaa9-0492-42f0-a8ea-b5843df888ea@obituaries.harrelsonfuneralhome.com
DTSTAMP:20260424T003330Z
DTSTART:20260501T200000Z
DTEND:20260501T210000Z
SUMMARY:Funeral Service
DESCRIPTION:
URL:https://obituaries.harrelsonfuneralhome.com/obituaries/specialist-fourth-class-lawrence-alan-al-silvers
LOCATION: 1251 US Highway 221a  Forest City NC 28043
GEO:35.2910361;-81.8272394
END:VEVENT
END:VCALENDAR