BEGIN:VCALENDAR
VERSION:2.0
PRODID:-//Tukios.com/
BEGIN:VEVENT
UID:d6ec0b12-0cb1-4888-a0c9-1e3fc80e745a@obituaries.harrelsonfuneralhome.com
DTSTAMP:20260424T003655Z
DTSTART:20260430T210000Z
DTEND:20260430T230000Z
SUMMARY:Visitation
DESCRIPTION:
URL:https://obituaries.harrelsonfuneralhome.com/obituaries/specialist-fourth-class-lawrence-alan-al-silvers
LOCATION:Family Home 107 Moore Acres  Ellenboro NC 28040
GEO:35.2997607;-81.7893723
END:VEVENT
END:VCALENDAR