BEGIN:VCALENDAR
VERSION:2.0
PRODID:-//Tukios.com/
BEGIN:VEVENT
UID:b69c366a-94dc-4646-be8e-55a186bafdff@obituaries.harrelsonfuneralhome.com
DTSTAMP:20260421T232835Z
DTSTART:20260424T220000Z
DTEND:20260425T000000Z
SUMMARY:Celebration of Life
DESCRIPTION:
URL:https://obituaries.harrelsonfuneralhome.com/obituaries/sandra-ray-robins
LOCATION:Harrelson Funeral Home & Cremation Services 1251 US Highway 221a 
	 Forest City NC 28043
GEO:35.2910361;-81.8272394
END:VEVENT
END:VCALENDAR