BEGIN:VCALENDAR
VERSION:2.0
PRODID:-//Tukios.com/
BEGIN:VEVENT
UID:de5ee26b-339c-4675-b271-eec4d8186beb@obituaries.harrelsonfuneralhome.com
DTSTAMP:20260424T234039Z
DTSTART:20260429T200000Z
DTEND:20260429T210000Z
SUMMARY:Interment
DESCRIPTION:
URL:https://obituaries.harrelsonfuneralhome.com/obituaries/jacob-lenly-campbell
LOCATION: 1743 Chase High Rd  Forest City NC 28043
GEO:35.2458763;-81.8444428
END:VEVENT
END:VCALENDAR