BEGIN:VCALENDAR
VERSION:2.0
PRODID:-//Tukios.com/
BEGIN:VEVENT
UID:b858e2fd-37f2-4c6d-aedf-d3a7766afee7@obituaries.harrelsonfuneralhome.com
DTSTAMP:20260424T233832Z
DTSTART:20260428T220000Z
DTEND:20260429T000000Z
SUMMARY:Visitation
DESCRIPTION:
URL:https://obituaries.harrelsonfuneralhome.com/obituaries/jacob-lenly-campbell
LOCATION: 1251 US Highway 221a  Forest City NC 28043
GEO:35.2910361;-81.8272394
END:VEVENT
END:VCALENDAR