BEGIN:VCALENDAR
VERSION:2.0
PRODID:-//Tukios.com/
BEGIN:VEVENT
UID:6bb5921f-7947-46b2-90ca-b27d27bc1ae2@obituaries.harrelsonfuneralhome.com
DTSTAMP:20260424T234149Z
DTSTART:20260429T190000Z
DTEND:20260429T200000Z
SUMMARY:Funeral Service
DESCRIPTION:
URL:https://obituaries.harrelsonfuneralhome.com/obituaries/jacob-lenly-campbell
LOCATION:Crestview Baptist Church 630 S Church St  Forest City NC 28043
GEO:35.3227923;-81.877707
END:VEVENT
END:VCALENDAR